BEGIN:VCALENDAR
VERSION:2.0
PRODID:-//Bronwyn Spilsbury - ECPv6.15.20//NONSGML v1.0//EN
CALSCALE:GREGORIAN
METHOD:PUBLISH
X-ORIGINAL-URL:https://pilgrimway.ca
X-WR-CALDESC:Events for Bronwyn Spilsbury
REFRESH-INTERVAL;VALUE=DURATION:PT1H
X-Robots-Tag:noindex
X-PUBLISHED-TTL:PT1H
BEGIN:VTIMEZONE
TZID:America/Vancouver
BEGIN:DAYLIGHT
TZOFFSETFROM:-0800
TZOFFSETTO:-0700
TZNAME:PDT
DTSTART:20170312T100000
END:DAYLIGHT
BEGIN:STANDARD
TZOFFSETFROM:-0700
TZOFFSETTO:-0800
TZNAME:PST
DTSTART:20171105T090000
END:STANDARD
BEGIN:DAYLIGHT
TZOFFSETFROM:-0800
TZOFFSETTO:-0700
TZNAME:PDT
DTSTART:20180311T100000
END:DAYLIGHT
BEGIN:STANDARD
TZOFFSETFROM:-0700
TZOFFSETTO:-0800
TZNAME:PST
DTSTART:20181104T090000
END:STANDARD
BEGIN:DAYLIGHT
TZOFFSETFROM:-0800
TZOFFSETTO:-0700
TZNAME:PDT
DTSTART:20190310T100000
END:DAYLIGHT
BEGIN:STANDARD
TZOFFSETFROM:-0700
TZOFFSETTO:-0800
TZNAME:PST
DTSTART:20191103T090000
END:STANDARD
BEGIN:DAYLIGHT
TZOFFSETFROM:-0800
TZOFFSETTO:-0700
TZNAME:PDT
DTSTART:20200308T100000
END:DAYLIGHT
BEGIN:STANDARD
TZOFFSETFROM:-0700
TZOFFSETTO:-0800
TZNAME:PST
DTSTART:20201101T090000
END:STANDARD
BEGIN:DAYLIGHT
TZOFFSETFROM:-0800
TZOFFSETTO:-0700
TZNAME:PDT
DTSTART:20210314T100000
END:DAYLIGHT
BEGIN:STANDARD
TZOFFSETFROM:-0700
TZOFFSETTO:-0800
TZNAME:PST
DTSTART:20211107T090000
END:STANDARD
BEGIN:DAYLIGHT
TZOFFSETFROM:-0800
TZOFFSETTO:-0700
TZNAME:PDT
DTSTART:20220313T100000
END:DAYLIGHT
BEGIN:STANDARD
TZOFFSETFROM:-0700
TZOFFSETTO:-0800
TZNAME:PST
DTSTART:20221106T090000
END:STANDARD
BEGIN:DAYLIGHT
TZOFFSETFROM:-0800
TZOFFSETTO:-0700
TZNAME:PDT
DTSTART:20230312T100000
END:DAYLIGHT
BEGIN:STANDARD
TZOFFSETFROM:-0700
TZOFFSETTO:-0800
TZNAME:PST
DTSTART:20231105T090000
END:STANDARD
BEGIN:DAYLIGHT
TZOFFSETFROM:-0800
TZOFFSETTO:-0700
TZNAME:PDT
DTSTART:20240310T100000
END:DAYLIGHT
BEGIN:STANDARD
TZOFFSETFROM:-0700
TZOFFSETTO:-0800
TZNAME:PST
DTSTART:20241103T090000
END:STANDARD
END:VTIMEZONE
BEGIN:VEVENT
DTSTART;VALUE=DATE:20230608
DTEND;VALUE=DATE:20230621
DTSTAMP:20260424T012630
CREATED:20200521T230059Z
LAST-MODIFIED:20221208T010441Z
UID:10000061-1686182400-1687305599@pilgrimway.ca
SUMMARY:Israel & Jordan
DESCRIPTION:Pilgrim Adventures & Divine Encounters\nJourney into wonder and worship in Israel & Jordan\, led by Pastor Leon Throness\, Chilliwack Alliance\, and Bronwyn Spilsbury. \nJoin this pilgrimage of exploration! We shall adventure into the wilds of the land (in a very safe way) and into the wilderness of our spirits – encouraging hope\, wisdom\, health\, and healing. We’ll traverse Scripture in soil and soul. \nPastor Leon has been to the Holy Land several times\, and looks forward to taking pilgrims who’ve been before\, or are going for the first time\, in an enriched way of experience. We shall stay in excellent hotels\, be driven in comfortable coaches\, have top-notch guides\, eat delicious meals (breakfast and dinner buffets are included) and enjoy fabulous community and sharing. \nThis journey is open to all who want to come – not limited by church or location. Just let us know you’re into adventure and encounter\, that you want to go to the Holy Land and visit Petra and Jordan. Then – register and prepare for a wonderful time! \nCurrently there are no vaccination requirements for travel. The world is wide open and prepared – now is a terrific time to do what Jesus invited us to: Follow Me! Come and See! \nLet’s go together! \n  \n 
URL:https://pilgrimway.ca/event/israel-5/
CATEGORIES:Israel
ATTACH;FMTTYPE=image/jpeg:https://pilgrimway.ca/wp-content/uploads/2021/02/sea-of-galilee-5393599_1280.jpg
END:VEVENT
BEGIN:VEVENT
DTSTART;VALUE=DATE:20230430
DTEND;VALUE=DATE:20230516
DTSTAMP:20260424T012630
CREATED:20181020T032437Z
LAST-MODIFIED:20221208T010559Z
UID:10000056-1682812800-1684195199@pilgrimway.ca
SUMMARY:Israel & Jordan
DESCRIPTION:Walk with Jesus in the Holy Land\nAll are welcome to join this journey with Tenth Church \nCome on a pilgrimage of transformation! \nExperience the shining Sea of Galilee where Jesus spoke peace to crashing waves and also to worried disciples – where He speaks to our hearts too! \nClimb the Mount of Beatitudes and hear His sermon about the blessed life – so you can shape yours to match\, by the Holy Spirit.  Read about miracles and see where they happened in Capernaum. Perhaps you will experience a miracle too! \nTravel to Jerusalem and pray in Gethsemane\, hearing the echoes of Jesus’ words: “Father\, not my will but Yours be done.” Enter the empty tomb. From death came eternal life!  This is the path to freedom – and you’re invited… \nFrom here we go on to Jordan\, the territory of patriarch Abraham\, also where Moses travelled with the people\, and where Paul was taught by the Spirit. \nExperience the wonder of Petra and the vast wild desert of the Wadi Rum (“Valley of the Moon”). See where Moses viewed the Promised Land from afar\, and remember Joshua taking them forward. \nWe will go forward with faith like them\, into all God has for us. We look forward to YOU on this pilgrimage! \n Inquire about this Journey
URL:https://pilgrimway.ca/event/israel-2/
CATEGORIES:Bible Lands,Israel
ATTACH;FMTTYPE=image/jpeg:https://pilgrimway.ca/wp-content/uploads/2018/10/Walk-PS1500.jpg
END:VEVENT
BEGIN:VEVENT
DTSTART;VALUE=DATE:20220502
DTEND;VALUE=DATE:20220517
DTSTAMP:20260424T012630
CREATED:20181020T033316Z
LAST-MODIFIED:20210215T001848Z
UID:10000057-1651449600-1652745599@pilgrimway.ca
SUMMARY:Jordan & Israel
DESCRIPTION:Holy Land Study Tour\nPathway of Promise \nJourney to Jordan and Israel with Southview Church\, from Calgary\, led by Pastor Clyde Glass \nBe blessed as you study! Walk with your Bible as wide open as your eyes. Journey with your journal as ready as your heart! Watch them fill with wonder\, love and praise. This journey follows the chronological path of God’s people from Egypt\, through the desert\, into Jordan\, and finally entering the Promised Land.  \nEverywhere we go we will encounter Scriptural promises and warnings\, insights and revelations. We will understand why God worked as He did. We will enter the suffering of God’s only Son\, Jesus\, who died to make the ultimate promise come true: life everlasting\, free from sin and death.  \nWould you come with us? As you prepare\, think: what promises has God given you? What will you ask Him for\, as you travel? Choose today who you will follow! Make a covenant of hope\, love and faith that says you won’t turn back. Then get ready for a journey of promise\, a path of light. We promise!  \n Inquire about this Journey
URL:https://pilgrimway.ca/event/jordan-and-israel/
LOCATION:Jordan\, Amman\, Jordan
CATEGORIES:Bible Lands,Israel,Jordan
ATTACH;FMTTYPE=image/jpeg:https://pilgrimway.ca/wp-content/uploads/2018/10/Jordan-1-PS2100.jpg
GEO:31.9453666;35.9283716
END:VEVENT
BEGIN:VEVENT
DTSTART;TZID=America/Vancouver:20220423T080000
DTEND;TZID=America/Vancouver:20220507T170000
DTSTAMP:20260424T012630
CREATED:20200521T224404Z
LAST-MODIFIED:20211127T205901Z
UID:10000060-1650700800-1651942800@pilgrimway.ca
SUMMARY:Israel & Jordan
DESCRIPTION:Walk with Jesus in the Holy Land Journey\nHosts: Pastor Mark Peters with Pastor Bronwyn Spilsbury \nEnter the story of faith\, experience the life of pilgrimage. We travel to Israel & Palestine\, walking where Jesus did\, learning about prophets\, priests and kings\, and seeing how Jesus was the fulfilment of all promise. Then by faith we enter the further promises that are IN HIM! \nCome to ISRAEL & JORDAN\, as we explore our spiritual heritage in the light of Scripture and the path of history. Every location will bring to life some lesson we can ponder. Every day will open new windows of understanding. We will be transformed\, and we will be stronger for all the years ahead.  \nFrom the waters of the Sea of Galilee to the streets of Jerusalem to the vast plains of Jordan – all of it embodies and embraces Scripture. And WE WILL BE THERE! Sign up before it’s too late! Space limited. First come first served. We can’t wait to greet you\, with Jesus\, in the Holy Land! \nWe offer the option to travel to Israel & Jordan (April 23-May 7) or to Israel only (April 23-May 4).  \n Inquire about this Journey
URL:https://pilgrimway.ca/event/israel-3/
CATEGORIES:Israel
ATTACH;FMTTYPE=image/jpeg:https://pilgrimway.ca/wp-content/uploads/2020/05/Tree-PS1500.jpg
END:VEVENT
BEGIN:VEVENT
DTSTART;VALUE=DATE:20220301
DTEND;VALUE=DATE:20220317
DTSTAMP:20260424T012630
CREATED:20200521T222352Z
LAST-MODIFIED:20211129T210741Z
UID:10000059-1646092800-1647475199@pilgrimway.ca
SUMMARY:Egypt & Israel /Palestine
DESCRIPTION:Journey of Promise: from Glory to Glory!\nA travel course hosted by Regent College\, open to all.\nLed by Professor Rikk and Katie Watts with Pastor Bronwyn Spilsbury\n  \nThis journey focuses on Jesus in His world. Whether on the shores of Galilee or the Temple Mount\, each unique site brings home the historical reality of the person\, Jesus\, the LORD himself among us. \nWhile we sometimes feel Christianity is under assault\, several high-profile\, non-Christian thinkers have recently shown how much our modern world—East and West—owes to the Gospel. As one eminent historian put it: “the Gospel unleashed the most extraordinary revolution humanity has ever seen.” \nOur aim is to encourage and strengthen your understanding of and love for Him\, your confidence in the trustworthiness of the Gospels\, and your appreciation for the staggering impact of their message. Our hope is to equip you to share your faith with confidence\, and above all\, that you will find yourself encountering Jesus anew. Katie and I are very much looking forward to sharing Him with you all.” \nShort bio:\nUnashamedly a Jesus enthusiast\, Rikk Watts is Research Professor of New Testament at Regent College where he has taught the Life of Jesus and Gospels classes for over 20 years. He has a special interest in how the Old Testament shapes the New\, and the history of ideas\, particularly the impact of the Gospel. He has led several tours to Israel and Egypt\, and is a sought-after speaker both in the church and in academic settings\, around the world. \n Inquire about this Journey
URL:https://pilgrimway.ca/event/egypt-and-israel/
CATEGORIES:Egypt,Israel
ATTACH;FMTTYPE=image/jpeg:https://pilgrimway.ca/wp-content/uploads/2020/05/Pyramids-PS1500-e1685156857164.jpg
END:VEVENT
BEGIN:VEVENT
DTSTART;VALUE=DATE:20200131
DTEND;VALUE=DATE:20200214
DTSTAMP:20260424T012630
CREATED:20181020T031933Z
LAST-MODIFIED:20190529T020147Z
UID:10000055-1580428800-1581638399@pilgrimway.ca
SUMMARY:Israel
DESCRIPTION:Preaching the Gospel in the Land of the Gospels\nJourney hosted through Regent College with Prof. Darrell Johnson. \nDo you have a call to serve as a pastor or minister? Are you fulfilling that call\, or pursuing its completion? If so\, maybe this will be the journey for you! Specially priced to allow pastors and those in ministry to come\, specifically prepared with an itinerary that will suit you magnificently\, this is a perfect journey for those who will preach the Gospel and want to understand it from the inside out! \nJoin master preacher Darrell Johnson. Hear him exemplify the preaching of the Gospel on site. Take notes and pictures. Remember where the Bible was history and comes alive again! Then return to your country\, ready to preach and share more clearly\, with more conviction\, than ever!  \nOh\, did we mention – this is a pilgrimage with a retreat component. If you want to pray\, to reflect\, to restore your soul before God – come! “Green pastures and still waters” await you\, along with the Good Shepherd’s perfect care.  \nThere’s nothing like living the Bible in the land of the Bible\, learning the text within its context\, preaching the gospel in the land of the gospels. You have to experience it to believe it! Jesus invites you personally: Come and See! \nLed by Professor Darrell Johnson\, Prayer Leader Sharon Johnson\, Director and Pastoral Host Bronwyn Spilsbury.  Space is limited. Sign up early. Course registration and journey registration with deposit holds your spot. Balance due 60 days prior to travel.  \n Inquire about this Journey
URL:https://pilgrimway.ca/event/israel/
LOCATION:Italy\, Rome\, Siena\, Florence\, Venice\, Italy
CATEGORIES:Bible Lands,Israel
ATTACH;FMTTYPE=image/jpeg:https://pilgrimway.ca/wp-content/uploads/2018/10/Israel-1A-PS2100.jpg
GEO:31.768319;35.21371
END:VEVENT
BEGIN:VEVENT
DTSTART;VALUE=DATE:20191017
DTEND;VALUE=DATE:20191102
DTSTAMP:20260424T012630
CREATED:20180503T223008Z
LAST-MODIFIED:20190425T032853Z
UID:10000066-1571270400-1572652799@pilgrimway.ca
SUMMARY:Egypt and Israel
DESCRIPTION:The Exodus Journey\nFaith Beyond Belief\, with hosts Jojo Ruba and Bronwyn Spilsbury\, welcome you to a journey of faith\, hope\, love\, and witness. \nExplore the Bible as it relates apologetically to life under the expert guidance of Egyptologist Rania Magdy Selim and Israeli Archeologist Dr. Yossi Paz.  \nThere’s more to see than you ever believed\, and it’s waiting for you to discover it! Come and See – as Jesus invited you! Space is limited\, and filling fast!  \n Inquire about this Journey    Read Brochure  \nREGISTER\nThere are two registrations: first for the actual travel in Egypt and Israel and second for your air ticket to get there. \n\nFor Land Travel: You may download and print the Registration Form\, or you can register online (use code FBB19)\nFor Air Travel: Please use the Air Travel Registration Form
URL:https://pilgrimway.ca/event/egypt-and-israel-october-2019/
CATEGORIES:Egypt,Israel
ATTACH;FMTTYPE=image/jpeg:https://pilgrimway.ca/wp-content/uploads/2018/05/Egypt-Statues-PS2100.jpg
END:VEVENT
BEGIN:VEVENT
DTSTART;VALUE=DATE:20190501
DTEND;VALUE=DATE:20190521
DTSTAMP:20260424T012630
CREATED:20180503T221325Z
LAST-MODIFIED:20181214T221326Z
UID:10000075-1556668800-1558396799@pilgrimway.ca
SUMMARY:Egypt\, Israel\, and Jordan
DESCRIPTION:Blessings in the Bible Lands\nThis 20-day Journey will feature a Nile Cruise. \nInquire about this Journey    Read Brochure  \nREGISTER\nTo register\, please download and print the Registration Form and send it to info@christian-journeys.com or mail it to the address listed on the form.
URL:https://pilgrimway.ca/event/israel-and-jordan-may-2019/
CATEGORIES:Bible Lands,Egypt,Israel,Jordan
ATTACH;FMTTYPE=image/jpeg:https://pilgrimway.ca/wp-content/uploads/2018/05/Jordan-Camels-PS2100.jpg
END:VEVENT
BEGIN:VEVENT
DTSTART;VALUE=DATE:20190216
DTEND;VALUE=DATE:20190301
DTSTAMP:20260424T012630
CREATED:20180503T212527Z
LAST-MODIFIED:20181214T221227Z
UID:10000073-1550275200-1551398399@pilgrimway.ca
SUMMARY:Israel
DESCRIPTION:Experience the Holy Land\nThis is a wonderful 13-day journey\, to a sacred place\, taken at a slightly slower pace so we really experience the wonders of the Lord in the land of Biblical history: the land where God sent His only Son to walk and live among us. We will be in those places\, with many opportunities for prayer\, for teaching\, for friendship\, for listening to the Holy Spirit and even baptisms or re-confirmation of baptism\, in the Jordan river. \nPicture sailing on the Sea of Galilee and eating a fish lunch by its shores. Or sitting on the Mount of Beatitudes where Jesus preached the Sermon on the Mount. We will read His words there. Imagine being on Mount Carmel\, where God sent fire to consume Elijah’s sacrifice and the prophets of Baal were defeated. We will walk the streets of Jerusalem where Jesus carried His cross\, and share communion near the Garden Tomb\, where the stone is rolled away and a sign proclaims\, “He Is Risen!” \nIn every place we visit\, from Caesarea Philippi to Capernaum to to Calvary\, we will read the Scripture and realize it was actually here that God met with His people. We too\, by grace\, will meet Him there! It’s amazing!!! \nThis is a wonderful program\, fully inclusive of everything like hotels\, guides\, deluxe coach\, 2 daily big meals\, and gratuities. You only buy lunch and coffee\, if you want it! \nPeople are starting to register! Please don’t miss out! \n Download Full Brochure \nREGISTER\nThis Journey is in collaboration with Sherwood Park Alliance Church in Edmonton\, AB. There are two registrations: first for the actual travel in Israel and second for your air ticket to get there. \n\nFor Land Travel: You may download and print the Registration Form\, or you can register online (use code Sherwood19)\nFor Air Travel: Please use the Air Travel Registration Form or email the Air Travel agency to reserve a spot from Calgary: deirdre@forbes-travel.com. We offer group rate flights from both Calgary and from Edmonton.
URL:https://pilgrimway.ca/event/israel-feb-2019/
LOCATION:Italy\, Rome\, Siena\, Florence\, Venice\, Italy
CATEGORIES:Bible Lands,Israel
ATTACH;FMTTYPE=image/jpeg:https://pilgrimway.ca/wp-content/uploads/2018/05/Torah-PS2100.jpg
GEO:31.768319;35.21371
END:VEVENT
BEGIN:VEVENT
DTSTART;VALUE=DATE:20181006
DTEND;VALUE=DATE:20181019
DTSTAMP:20260424T012630
CREATED:20180503T210657Z
LAST-MODIFIED:20180505T205402Z
UID:10000072-1538784000-1539907199@pilgrimway.ca
SUMMARY:Israel
DESCRIPTION:Land of the Bible\, Landscape of Faith\nA Regent College Travel Course with Dr. Jim Houston and Bronwyn Spilsbury\nThis Journey is now full\, but has a waitlist.  \n“God among us” has historical\, geographical and theological roots and we are invited to experience them on a personalized guided journey that includes all the major Biblical sites plus archeological treasures! This October\, join Professor James Houston to explore the significance of this most written-about\, fought over\, recognized and beloved place on earth! In addition to on-site teaching\, Dr. Houston will offer 3 lectures shedding light on the history\, geography and theology of this Holy Land. \n Learn More about this Journey    See Brochure    Join Wait List
URL:https://pilgrimway.ca/event/israel-october-2018/
LOCATION:Italy\, Rome\, Siena\, Florence\, Venice\, Italy
CATEGORIES:Bible Lands,Israel
ATTACH;FMTTYPE=image/jpeg:https://pilgrimway.ca/wp-content/uploads/2018/05/Wall-PS2100.jpg
GEO:31.768319;35.21371
END:VEVENT
BEGIN:VEVENT
DTSTART;VALUE=DATE:20180728
DTEND;VALUE=DATE:20180812
DTSTAMP:20260424T012630
CREATED:20180501T220515Z
LAST-MODIFIED:20180801T233610Z
UID:10000070-1532736000-1534031999@pilgrimway.ca
SUMMARY:Egypt\, Jordan & Israel
DESCRIPTION:Exodus Intergenerational Adventure\nOur journey follows the path of the Exodus journey\, from Egypt to Israel. We start in Cairo\, visit the Pyramids and Sphinx\, take in Alexandria and sail on the Nile. These are places that connect us to our roots in human history\, and to the story in which God is writing our lives. \nWe cross the desert and arrive at Mount Sinai\, where Moses received the law of God. It’s a mystic\, remote place\, where sunlight dawns over red rocks. Then we go to the Red Sea\, and from there in to the land of Israel. \nIn Israel we journey to Nazareth\, see the place where Jesus spent his lovely childhood! We go on the Sea of Galilee in a wooden boat\, similar to what Peter might have owned\, that Jesus travelled in! We see Capernaum where He performed miracles and taught\, and we go to Cana\, site of turning water into wine. On the Mountain of Beatitudes\, we will read the Sermon on the Mount and pause to reflect on His teachings that are still needed today. \nWe go south to Jerusalem\, walk the Via Dolorosa\, sit and pray in Gethsemane which is on the Mount of Olives\, and explore the old market there with its narrow\, sunlit cobbled streets and vendors of all that’s bright and beautiful! We visit Bethlehem\, where the star shone and angels sang to shepherds – we’ll sing too! \nAll through our journey we will share the peace of Christ – the Shalom that God offers us. We will enjoy the community of a loving\, wonderful group. We’ll explore the Bible as it relates to each site\, and we will do more: we’ll experience it\, with all our senses\, not just our eyes and mind! \nIt’s a most wonderful opportunity and I pray you’ll consider joining me! \n Inquire about this Journey
URL:https://pilgrimway.ca/event/egypt-jordan-and-israel-july-2018/
LOCATION:Egypt\, Nekhel\, Egypt
CATEGORIES:Bible Lands,Egypt,Israel,Jordan
ATTACH;FMTTYPE=image/jpeg:https://pilgrimway.ca/wp-content/uploads/2018/05/Egypt-PS2100.jpg
GEO:29.9062971;33.7427293
END:VEVENT
BEGIN:VEVENT
DTSTART;VALUE=DATE:20180522
DTEND;VALUE=DATE:20180603
DTSTAMP:20260424T012630
CREATED:20180501T174824Z
LAST-MODIFIED:20180503T233411Z
UID:10000069-1526947200-1527983999@pilgrimway.ca
SUMMARY:Israel
DESCRIPTION:Follow the Light in the Holy Land\nThis trip is currently sold out.
URL:https://pilgrimway.ca/event/israel-may-2018/
LOCATION:Italy\, Rome\, Siena\, Florence\, Venice\, Italy
CATEGORIES:Bible Lands,Israel
ATTACH;FMTTYPE=image/jpeg:https://pilgrimway.ca/wp-content/uploads/2018/05/Jerusalem-PS2100.jpg
GEO:31.768319;35.21371
END:VEVENT
BEGIN:VEVENT
DTSTART;VALUE=DATE:20180507
DTEND;VALUE=DATE:20180522
DTSTAMP:20260424T012630
CREATED:20180501T173423Z
LAST-MODIFIED:20180504T185856Z
UID:10000068-1525651200-1526947199@pilgrimway.ca
SUMMARY:Israel and Jordan
DESCRIPTION:Experience the Holy Land in Community\nA team from Tenth Church in Vancouver\, BC will experience the Holy Land from May 7-21\, 2018 in community–with Pastors Ken Shigematsu and Darrell Johnson\, and tour host Bronwyn Spilsbury. Bronwyn is a Tenth Kits attendee who has both pastored and led many trips to the Holy Land. \nThis Journey is now full\, but has a waitlist. Tenth Church will have future tours so there is much to look forward to. See the below itinerary\, FAQ or email Bronwyn Spilsbury for details. \n\n 
URL:https://pilgrimway.ca/event/israel-and-jordan-may-2018/
LOCATION:Jordan\, Amman\, Jordan
CATEGORIES:Bible Lands,Israel,Jordan
ATTACH;FMTTYPE=image/jpeg:https://pilgrimway.ca/wp-content/uploads/2018/05/Jordan-PS2100.jpg
GEO:31.9453666;35.9283716
END:VEVENT
END:VCALENDAR