BEGIN:VCALENDAR
VERSION:2.0
PRODID:-//Bronwyn Spilsbury - ECPv6.15.20//NONSGML v1.0//EN
CALSCALE:GREGORIAN
METHOD:PUBLISH
X-WR-CALNAME:Bronwyn Spilsbury
X-ORIGINAL-URL:https://pilgrimway.ca
X-WR-CALDESC:Events for Bronwyn Spilsbury
REFRESH-INTERVAL;VALUE=DURATION:PT1H
X-Robots-Tag:noindex
X-PUBLISHED-TTL:PT1H
BEGIN:VTIMEZONE
TZID:America/Vancouver
BEGIN:DAYLIGHT
TZOFFSETFROM:-0800
TZOFFSETTO:-0700
TZNAME:PDT
DTSTART:20250309T100000
END:DAYLIGHT
BEGIN:STANDARD
TZOFFSETFROM:-0700
TZOFFSETTO:-0800
TZNAME:PST
DTSTART:20251102T090000
END:STANDARD
BEGIN:DAYLIGHT
TZOFFSETFROM:-0800
TZOFFSETTO:-0700
TZNAME:PDT
DTSTART:20260308T100000
END:DAYLIGHT
BEGIN:STANDARD
TZOFFSETFROM:-0700
TZOFFSETTO:-0800
TZNAME:PST
DTSTART:20261101T090000
END:STANDARD
BEGIN:DAYLIGHT
TZOFFSETFROM:-0800
TZOFFSETTO:-0700
TZNAME:PDT
DTSTART:20270314T100000
END:DAYLIGHT
BEGIN:STANDARD
TZOFFSETFROM:-0700
TZOFFSETTO:-0800
TZNAME:PST
DTSTART:20271107T090000
END:STANDARD
END:VTIMEZONE
BEGIN:VEVENT
DTSTART;VALUE=DATE:20260822
DTEND;VALUE=DATE:20260906
DTSTAMP:20260420T050929
CREATED:20250822T165858Z
LAST-MODIFIED:20251203T001944Z
UID:10000141-1787356800-1788652799@pilgrimway.ca
SUMMARY:Greece
DESCRIPTION:Amazing Grace in Amazing Greece\nFootsteps of Paul by land & cruise\nA Regent College Journey with N.T. Prof. Paul Spilsbury\nAugust 22-September 5\, 2026\n  \n\n\n\n\n\n\n\n\nGreece has been called the cradle of Western Civilization. The place of captivating myths\, stirring oratory\, mind-stretching philosophical exploration of the meaning of human existence and the universe in which we live. It’s the land where grace broke through\, altering the course of Western Civilization through one of history’s greatest minds\, the Apostle Paul\, intellectual giant alongside Plato and Aristotle. \nIn ancient Greece Paul powerfully articulated the Gospel of Jesus\, founding communities of women and men centred in Jesus\, breaking strongholds of hierarchy; to whom he wrote some of his most amazing letters. \nWe will have the privilege of walking and sitting in the places where the Message met the Myth. In Athens\, in Corinth. In tiny mountain towns and lively tavernas. Then\, sail off the coast of Greece to Asia Minor\, where the Message won hearts in places like Ephesus\, and where the Message Himself met the Apostle John on the island of Patmos. What an opportunity of a life-time! \n  \n Inquire about this Journey \n\n\n\n\n\n\n\n\n\n\n\n\n\n\n\n \n\n\n\n\n\n\n\n  \n 
URL:https://pilgrimway.ca/event/greece-4/
CATEGORIES:Greece
ATTACH;FMTTYPE=image/jpeg:https://pilgrimway.ca/wp-content/uploads/2024/09/GREECE-506-scaled-e1742014185322.jpeg
END:VEVENT
END:VCALENDAR